Workbook
Name Companies: lists!$B$4:$B$12
Name Company_activity: lists!$D$2:$D$7
Name contractors: lists!$E$2:$E$4
Name days_lost: lists!$I$2:$I$4
Name Indicators: lists!$G$2:$G$10
Name methodology_based: lists!$G$2:$G$4
Name Staff_categories: lists!$E$3:$E$11
Name Years: lists!$D$2:$D$7

Sheet FIRST
A1: ="ACCIDENTS AT WORK Data collection "&B2&" OHSG WG" -> ACCIDENTS AT WORK Data collection 2021 OHSG WG
A2: Attachment to the document “Statistics on accident at work – Methodology” | B2: 2021
A4: Dear colleague, You are kindly requested to fill in this questionnaire with the accident at work data relevant to your Railway Company. This request is an important phase of the “UIC benchmarking of statistics on Accidents at Work" activity. Please refer to the word document "Statistics on accidents at work - Methodology 2015", where you will find all definitions in paragraph 4 and the classification of staff in Appendix 2. Thank you for participating to this data collection. Let us begin with a few questions:
A5: 1. What is you Railway Company name?
A7: 2. What is the activity of your company?
A9: 3. What are your first name and surname?
A11: 4. What is your email?
A13: 5a. Do your data include contractors and subcontractors?
A15: 5b. Only for Infrastructure manager Company: are your infrastructure maintenance operations only performed by contractors?
A16: (if YES, the Company manages a contract with a role of work coordination and never performs operational maintenance activities with its own staff)
A18: 6. Is your accident reporting procedure based on insurance system or a legal obligation (see ESAW 2001 page 23 and UIC methodology page 10)) ?
A21: 7. Which calculation mode of days lost du you use? (see UIC methodology point 4.12)
A23: ="Next spreadsheets relate to the last three years, from "&B2-3&" to "&B2-1&"." -> Next spreadsheets relate to the last three years, from 2018 to 2020.
A24: We ask you to fulfill the blank cells with absolute numbers. Indicators (which are not in blank cells) will be calculated by excel.
A25: Please send us any comments or suggestions to improve this tool for the collection of statistics accident at work or contact us in case of any request of clarification.
A26: Once again, thank you for your participation. This is an important tool for ALL of us.
A28: Best regards
A29: Riccardo Trillini | B29: r.trillini@trenitalia.it
A30: Olivier Georger | B30: georger@uic.org

Sheet year N-1
C1: 1 | D1: 2 | E1: 3 | F1: 4 | G1: 5 | H1: 6 | I1: 7 | J1: 8 | K1: 9
B2: RAILWAY COMPANY: | C2: =FIRST!B5 -> 0
B4: Reference documentation: | C4: UIC accidents at work database - Methodology | G4: European Statistics on Accidents at Work (ESAW) | L4: UIC Accidents at work Website
B6: YEAR: | C6: TOTAL | D6: INFRASTRUCTURE MANAGER | G6: RAILWAY UNDERTAKING (transport operator) | L6: EXPLAINING or ADDITIONAL NOTES
B7: =FIRST!B2-1 -> 2020 | D7: Total Staff | E7: of which "Track workers" | F7: of which "Shunting" | G7: Total Staff | H7: of which "Train drivers" | I7: of which "On board staff" | J7: of which "Shunting" | K7: of which "Rolling stock maintenance workers"
A8: A | B8: Average staff headcount | C8: =IF(D8+G8>0,D8+G8,"")
A9: B | B9: Number of worked hours | C9: =IF(D9+G9>0,D9+G9,"")
A10: C | B10: Number of work accidents | C10: =IF(D10+G10>0,D10+G10,"")
A11: D | B11: Number of fatal accidents (part of C) | C11: =IF(D11+G11>0,D11+G11,"")
A12: E | B12: Number of days lost | C12: =IF(D12+G12>0,D12+G12,"")
A13: F | B13: Incidence rate = C x 1000 / A | C13: =IF(ISNUMBER(C10*1000/C8)=TRUE,C10*1000/C8,"") | D13: =IF(ISNUMBER(D10*1000/D8)=TRUE,D10*1000/D8,"") | E13: =IF(ISNUMBER(E10*1000/E8)=TRUE,E10*1000/E8,"") | F13: =IF(ISNUMBER(F10*1000/F8)=TRUE,F10*1000/F8,"") | G13: =IF(ISNUMBER(G10*1000/G8)=TRUE,G10*1000/G8,"") | H13: =IF(ISNUMBER(H10*1000/H8)=TRUE,H10*1000/H8,"") | I13: =IF(ISNUMBER(I10*1000/I8)=TRUE,I10*1000/I8,"") | J13: =IF(ISNUMBER(J10*1000/J8)=TRUE,J10*1000/J8,"") | K13: =IF(ISNUMBER(K10*1000/K8)=TRUE,K10*1000/K8,"")
A14: G | B14: Severity rate = E x 1000 / A | C14: =IF(ISNUMBER(C12*1000/C8)=TRUE,C12*1000/C8,"") | D14: =IF(ISNUMBER(D12*1000/D8)=TRUE,D12*1000/D8,"") | E14: =IF(ISNUMBER(E12*1000/E8)=TRUE,E12*1000/E8,"") | F14: =IF(ISNUMBER(F12*1000/F8)=TRUE,F12*1000/F8,"") | G14: =IF(ISNUMBER(G12*1000/G8)=TRUE,G12*1000/G8,"") | H14: =IF(ISNUMBER(H12*1000/H8)=TRUE,H12*1000/H8,"") | I14: =IF(ISNUMBER(I12*1000/I8)=TRUE,I12*1000/I8,"") | J14: =IF(ISNUMBER(J12*1000/J8)=TRUE,J12*1000/J8,"") | K14: =IF(ISNUMBER(K12*1000/K8)=TRUE,K12*1000/K8,"")
A15: H | B15: Average absence = E / C | C15: =IF(ISNUMBER(C12/C10)=TRUE,C12/C10,"") | D15: =IF(ISNUMBER(D12/D10)=TRUE,D12/D10,"") | E15: =IF(ISNUMBER(E12/E10)=TRUE,E12/E10,"") | F15: =IF(ISNUMBER(F12/F10)=TRUE,F12/F10,"") | G15: =IF(ISNUMBER(G12/G10)=TRUE,G12/G10,"") | H15: =IF(ISNUMBER(H12/H10)=TRUE,H12/H10,"") | I15: =IF(ISNUMBER(I12/I10)=TRUE,I12/I10,"") | J15: =IF(ISNUMBER(J12/J10)=TRUE,J12/J10,"") | K15: =IF(ISNUMBER(K12/K10)=TRUE,K12/K10,"")

Sheet year N-2
C1: 1 | D1: 2 | E1: 3 | F1: 4 | G1: 5 | H1: 6 | I1: 7 | J1: 8 | K1: 9
B2: RAILWAY COMPANY: | C2: =FIRST!B5 -> 0
B4: Reference documentation: | C4: UIC accidents at work database - Methodology | G4: European Statistics on Accidents at Work (ESAW) | L4: UIC Accidents at work Website
B6: YEAR: | C6: TOTAL | D6: INFRASTRUCTURE MANAGER | G6: RAILWAY UNDERTAKING (transport operator) | L6: EXPLAINING or ADDITIONAL NOTES
B7: =FIRST!B2-2 -> 2019 | D7: Total Staff | E7: of which "Track workers" | F7: of which "Shunting" | G7: Total Staff | H7: of which "Train drivers" | I7: of which "On board staff" | J7: of which "Shunting" | K7: of which "Rolling stock maintenance workers"
A8: A | B8: Average staff headcount | C8: =IF(D8+G8>0,D8+G8,"")
A9: B | B9: Number of worked hours | C9: =IF(D9+G9>0,D9+G9,"")
A10: C | B10: Number of work accidents | C10: =IF(D10+G10>0,D10+G10,"")
A11: D | B11: Number of fatal accidents (part of C) | C11: =IF(D11+G11>0,D11+G11,"")
A12: E | B12: Number of days lost | C12: =IF(D12+G12>0,D12+G12,"")
A13: F | B13: Incidence rate = C x 1000 / A | C13: =IF(ISNUMBER(C10*1000/C8)=TRUE,C10*1000/C8,"") | D13: =IF(ISNUMBER(D10*1000/D8)=TRUE,D10*1000/D8,"") | E13: =IF(ISNUMBER(E10*1000/E8)=TRUE,E10*1000/E8,"") | F13: =IF(ISNUMBER(F10*1000/F8)=TRUE,F10*1000/F8,"") | G13: =IF(ISNUMBER(G10*1000/G8)=TRUE,G10*1000/G8,"") | H13: =IF(ISNUMBER(H10*1000/H8)=TRUE,H10*1000/H8,"") | I13: =IF(ISNUMBER(I10*1000/I8)=TRUE,I10*1000/I8,"") | J13: =IF(ISNUMBER(J10*1000/J8)=TRUE,J10*1000/J8,"") | K13: =IF(ISNUMBER(K10*1000/K8)=TRUE,K10*1000/K8,"")
A14: G | B14: Severity rate = E x 1000 / A | C14: =IF(ISNUMBER(C12*1000/C8)=TRUE,C12*1000/C8,"") | D14: =IF(ISNUMBER(D12*1000/D8)=TRUE,D12*1000/D8,"") | E14: =IF(ISNUMBER(E12*1000/E8)=TRUE,E12*1000/E8,"") | F14: =IF(ISNUMBER(F12*1000/F8)=TRUE,F12*1000/F8,"") | G14: =IF(ISNUMBER(G12*1000/G8)=TRUE,G12*1000/G8,"") | H14: =IF(ISNUMBER(H12*1000/H8)=TRUE,H12*1000/H8,"") | I14: =IF(ISNUMBER(I12*1000/I8)=TRUE,I12*1000/I8,"") | J14: =IF(ISNUMBER(J12*1000/J8)=TRUE,J12*1000/J8,"") | K14: =IF(ISNUMBER(K12*1000/K8)=TRUE,K12*1000/K8,"")
A15: H | B15: Average absence = E / C | C15: =IF(ISNUMBER(C12/C10)=TRUE,C12/C10,"") | D15: =IF(ISNUMBER(D12/D10)=TRUE,D12/D10,"") | E15: =IF(ISNUMBER(E12/E10)=TRUE,E12/E10,"") | F15: =IF(ISNUMBER(F12/F10)=TRUE,F12/F10,"") | G15: =IF(ISNUMBER(G12/G10)=TRUE,G12/G10,"") | H15: =IF(ISNUMBER(H12/H10)=TRUE,H12/H10,"") | I15: =IF(ISNUMBER(I12/I10)=TRUE,I12/I10,"") | J15: =IF(ISNUMBER(J12/J10)=TRUE,J12/J10,"") | K15: =IF(ISNUMBER(K12/K10)=TRUE,K12/K10,"")

Sheet year N-3
C1: 1 | D1: 2 | E1: 3 | F1: 4 | G1: 5 | H1: 6 | I1: 7 | J1: 8 | K1: 9
B2: RAILWAY COMPANY: | C2: =FIRST!B5 -> 0
B4: Reference documentation: | C4: UIC accidents at work database - Methodology | G4: European Statistics on Accidents at Work (ESAW) | L4: UIC Accidents at work Website
B6: YEAR: | C6: TOTAL | D6: INFRASTRUCTURE MANAGER | G6: RAILWAY UNDERTAKING (transport operator) | L6: EXPLAINING or ADDITIONAL NOTES
B7: =FIRST!B2-3 -> 2018 | D7: Total Staff | E7: of which "Track workers" | F7: of which "Shunting" | G7: Total Staff | H7: of which "Train drivers" | I7: of which "On board staff" | J7: of which "Shunting" | K7: of which "Rolling stock maintenance workers"
A8: A | B8: Average staff headcount | C8: =IF(D8+G8>0,D8+G8,"")
A9: B | B9: Number of worked hours | C9: =IF(D9+G9>0,D9+G9,"")
A10: C | B10: Number of work accidents | C10: =IF(D10+G10>0,D10+G10,"")
A11: D | B11: Number of fatal accidents (part of C) | C11: =IF(D11+G11>0,D11+G11,"")
A12: E | B12: Number of days lost | C12: =IF(D12+G12>0,D12+G12,"")
A13: F | B13: Incidence rate = C x 1000 / A | C13: =IF(ISNUMBER(C10*1000/C8)=TRUE,C10*1000/C8,"") | D13: =IF(ISNUMBER(D10*1000/D8)=TRUE,D10*1000/D8,"") | E13: =IF(ISNUMBER(E10*1000/E8)=TRUE,E10*1000/E8,"") | F13: =IF(ISNUMBER(F10*1000/F8)=TRUE,F10*1000/F8,"") | G13: =IF(ISNUMBER(G10*1000/G8)=TRUE,G10*1000/G8,"") | H13: =IF(ISNUMBER(H10*1000/H8)=TRUE,H10*1000/H8,"") | I13: =IF(ISNUMBER(I10*1000/I8)=TRUE,I10*1000/I8,"") | J13: =IF(ISNUMBER(J10*1000/J8)=TRUE,J10*1000/J8,"") | K13: =IF(ISNUMBER(K10*1000/K8)=TRUE,K10*1000/K8,"")
A14: G | B14: Severity rate = E x 1000 / A | C14: =IF(ISNUMBER(C12*1000/C8)=TRUE,C12*1000/C8,"") | D14: =IF(ISNUMBER(D12*1000/D8)=TRUE,D12*1000/D8,"") | E14: =IF(ISNUMBER(E12*1000/E8)=TRUE,E12*1000/E8,"") | F14: =IF(ISNUMBER(F12*1000/F8)=TRUE,F12*1000/F8,"") | G14: =IF(ISNUMBER(G12*1000/G8)=TRUE,G12*1000/G8,"") | H14: =IF(ISNUMBER(H12*1000/H8)=TRUE,H12*1000/H8,"") | I14: =IF(ISNUMBER(I12*1000/I8)=TRUE,I12*1000/I8,"") | J14: =IF(ISNUMBER(J12*1000/J8)=TRUE,J12*1000/J8,"") | K14: =IF(ISNUMBER(K12*1000/K8)=TRUE,K12*1000/K8,"")
A15: H | B15: Average absence = E / C | C15: =IF(ISNUMBER(C12/C10)=TRUE,C12/C10,"") | D15: =IF(ISNUMBER(D12/D10)=TRUE,D12/D10,"") | E15: =IF(ISNUMBER(E12/E10)=TRUE,E12/E10,"") | F15: =IF(ISNUMBER(F12/F10)=TRUE,F12/F10,"") | G15: =IF(ISNUMBER(G12/G10)=TRUE,G12/G10,"") | H15: =IF(ISNUMBER(H12/H10)=TRUE,H12/H10,"") | I15: =IF(ISNUMBER(I12/I10)=TRUE,I12/I10,"") | J15: =IF(ISNUMBER(J12/J10)=TRUE,J12/J10,"") | K15: =IF(ISNUMBER(K12/K10)=TRUE,K12/K10,"")

Sheet lists
D1: COMPANY ACTIVITY | E1: CONTRACTORS | G1: METHODOLOGY BASED | I1: DAYS LOST
D2: … | E2: … | G2: … | I2: …
D3: Infrastructure Manager | E3: Yes | G3: based on insurance system | I3: Dynamic
D4: Integrated company (infrastructure + transport) | E4: No | G4: legal obligation of the employer | I4: Static
D5: Passenger and freight transport operator
D6: Freight transport operator
D7: Passenger transport operator
